Workbook
Name Calciatori: '[1]Elenco calciatori'!$B$3:$B$72
Name CALCIATORI_PUBBLICO: '[1]Elenco calciatori'!$AE$3:$AE$72
Name Completo_Calciatori: '[1]Elenco calciatori'!$B$3:$AD$72
Name DIRIGENTI: [1]Dirigenti!$A$2:$A$18
Name Dirigenti_completo: [1]Dirigenti!$A$1:$AD$31
Name DISTINTA_PUBBLICO: '[1]Elenco calciatori'!$AE$3:$AG$72

Sheet DISTINTA
A1: COPPA BRESCIA 2026/2027
E2: Società | M2: Categoria | S2: Impiego in campo
E3: Gara (squadra casa vs ospite)
E4: Data | M4: Ora | S4: Primo Tempo | T4: Secondo Tempo
E5: Campo
A6: N° | B6: Data di nascita | E6: Cognome e Nome | I6: Cap. V.C. | J6: N° Matricola F.I.G.C. | N6: Documento d'identificazione | S6: (da compilare obbligatoriamente)
B7: G | C7: M | D7: A | N7: Tipo | P7: Numero
A8: 1 | B8: =IFERROR(VLOOKUP($E8,'DATI-ATLETI'!$B$2:$F$36,2,FALSE),"") | J8: =IFERROR(VLOOKUP($E8,'DATI-ATLETI'!$B$2:$I$26,6,FALSE),"") | N8: =IFERROR(VLOOKUP($E8,'DATI-ATLETI'!$B$2:$I$26,7,FALSE),"") | P8: =IFERROR(VLOOKUP($E8,'DATI-ATLETI'!$B$2:$I$26,8,FALSE),"")
A9: 2 | B9: =IFERROR(VLOOKUP($E9,'DATI-ATLETI'!$B$2:$F$36,2,FALSE),"") | J9: =IFERROR(VLOOKUP($E9,'DATI-ATLETI'!$B$2:$I$26,6,FALSE),"") | N9: =IFERROR(VLOOKUP($E9,'DATI-ATLETI'!$B$2:$I$26,7,FALSE),"") | P9: =IFERROR(VLOOKUP($E9,'DATI-ATLETI'!$B$2:$I$26,8,FALSE),"")
A10: 3 | B10: =IFERROR(VLOOKUP($E10,'DATI-ATLETI'!$B$2:$F$36,2,FALSE),"") | J10: =IFERROR(VLOOKUP($E10,'DATI-ATLETI'!$B$2:$I$26,6,FALSE),"") | N10: =IFERROR(VLOOKUP($E10,'DATI-ATLETI'!$B$2:$I$26,7,FALSE),"") | P10: =IFERROR(VLOOKUP($E10,'DATI-ATLETI'!$B$2:$I$26,8,FALSE),"")
A11: 4 | B11: =IFERROR(VLOOKUP($E11,'DATI-ATLETI'!$B$2:$F$36,2,FALSE),"") | J11: =IFERROR(VLOOKUP($E11,'DATI-ATLETI'!$B$2:$I$26,6,FALSE),"") | N11: =IFERROR(VLOOKUP($E11,'DATI-ATLETI'!$B$2:$I$26,7,FALSE),"") | P11: =IFERROR(VLOOKUP($E11,'DATI-ATLETI'!$B$2:$I$26,8,FALSE),"")
A12: 5 | B12: =IFERROR(VLOOKUP($E12,'DATI-ATLETI'!$B$2:$F$36,2,FALSE),"") | J12: =IFERROR(VLOOKUP($E12,'DATI-ATLETI'!$B$2:$I$26,6,FALSE),"") | N12: =IFERROR(VLOOKUP($E12,'DATI-ATLETI'!$B$2:$I$26,7,FALSE),"") | P12: =IFERROR(VLOOKUP($E12,'DATI-ATLETI'!$B$2:$I$26,8,FALSE),"")
A13: 6 | B13: =IFERROR(VLOOKUP($E13,'DATI-ATLETI'!$B$2:$F$36,2,FALSE),"") | J13: =IFERROR(VLOOKUP($E13,'DATI-ATLETI'!$B$2:$I$26,6,FALSE),"") | N13: =IFERROR(VLOOKUP($E13,'DATI-ATLETI'!$B$2:$I$26,7,FALSE),"") | P13: =IFERROR(VLOOKUP($E13,'DATI-ATLETI'!$B$2:$I$26,8,FALSE),"")
A14: 7 | B14: =IFERROR(VLOOKUP($E14,'DATI-ATLETI'!$B$2:$F$36,2,FALSE),"") | J14: =IFERROR(VLOOKUP($E14,'DATI-ATLETI'!$B$2:$I$26,6,FALSE),"") | N14: =IFERROR(VLOOKUP($E14,'DATI-ATLETI'!$B$2:$I$26,7,FALSE),"") | P14: =IFERROR(VLOOKUP($E14,'DATI-ATLETI'!$B$2:$I$26,8,FALSE),"")
A15: 8 | B15: =IFERROR(VLOOKUP($E15,'DATI-ATLETI'!$B$2:$F$36,2,FALSE),"") | J15: =IFERROR(VLOOKUP($E15,'DATI-ATLETI'!$B$2:$I$26,6,FALSE),"") | N15: =IFERROR(VLOOKUP($E15,'DATI-ATLETI'!$B$2:$I$26,7,FALSE),"") | P15: =IFERROR(VLOOKUP($E15,'DATI-ATLETI'!$B$2:$I$26,8,FALSE),"")
A16: 9 | B16: =IFERROR(VLOOKUP($E16,'DATI-ATLETI'!$B$2:$F$36,2,FALSE),"") | J16: =IFERROR(VLOOKUP($E16,'DATI-ATLETI'!$B$2:$I$26,6,FALSE),"") | N16: =IFERROR(VLOOKUP($E16,'DATI-ATLETI'!$B$2:$I$26,7,FALSE),"") | P16: =IFERROR(VLOOKUP($E16,'DATI-ATLETI'!$B$2:$I$26,8,FALSE),"")
A17: 10 | B17: =IFERROR(VLOOKUP($E17,'DATI-ATLETI'!$B$2:$F$36,2,FALSE),"") | J17: =IFERROR(VLOOKUP($E17,'DATI-ATLETI'!$B$2:$I$26,6,FALSE),"") | N17: =IFERROR(VLOOKUP($E17,'DATI-ATLETI'!$B$2:$I$26,7,FALSE),"") | P17: =IFERROR(VLOOKUP($E17,'DATI-ATLETI'!$B$2:$I$26,8,FALSE),"")
A18: 11 | B18: =IFERROR(VLOOKUP($E18,'DATI-ATLETI'!$B$2:$F$36,2,FALSE),"") | J18: =IFERROR(VLOOKUP($E18,'DATI-ATLETI'!$B$2:$I$26,6,FALSE),"") | N18: =IFERROR(VLOOKUP($E18,'DATI-ATLETI'!$B$2:$I$26,7,FALSE),"") | P18: =IFERROR(VLOOKUP($E18,'DATI-ATLETI'!$B$2:$I$26,8,FALSE),"")
A19: 12 | B19: =IFERROR(VLOOKUP($E19,'DATI-ATLETI'!$B$2:$F$36,2,FALSE),"") | J19: =IFERROR(VLOOKUP($E19,'DATI-ATLETI'!$B$2:$I$26,6,FALSE),"") | N19: =IFERROR(VLOOKUP($E19,'DATI-ATLETI'!$B$2:$I$26,7,FALSE),"") | P19: =IFERROR(VLOOKUP($E19,'DATI-ATLETI'!$B$2:$I$26,8,FALSE),"")
... A27: 20 | B27: =IFERROR(VLOOKUP($E27,'DATI-ATLETI'!$B$2:$F$36,2,FALSE),"") | J27: =IFERROR(VLOOKUP($E27,'DATI-ATLETI'!$B$2:$I$26,6,FALSE),"") | N27: =IFERROR(VLOOKUP($E27,'DATI-ATLETI'!$B$2:$I$26,7,FALSE),"") | P27: =IFERROR(VLOOKUP($E27,'DATI-ATLETI'!$B$2:$I$26,8,FALSE),"")
A28: Persone ammesse nel recinto di gioco | M28: N° Tessera F.I.G .C. | P28: Documento d'identificazione NUMERO
N29: Tipo
A30: Dirigente Accompagnatore Ufficiale | M30: =IFERROR(VLOOKUP(H30,'DATI-STAFF'!$A$2:$D$10,2,FALSE),"") | N30: =IFERROR(VLOOKUP(H30,'DATI-STAFF'!$A$2:$D$10,3,FALSE),"") | P30: =IFERROR(VLOOKUP(H30,'DATI-STAFF'!$A$2:$D$10,4,FALSE),"")
A31: Dirigente addetto all'Arbitro | M31: =IFERROR(VLOOKUP(H31,'DATI-STAFF'!$A$2:$D$10,2,FALSE),"") | N31: =IFERROR(VLOOKUP(H31,'DATI-STAFF'!$A$2:$D$10,3,FALSE),"") | P31: =IFERROR(VLOOKUP(H31,'DATI-STAFF'!$A$2:$D$10,4,FALSE),"")
A32: Medico Sociale | M32: =IFERROR(VLOOKUP(H32,'DATI-STAFF'!$A$2:$D$10,2,FALSE),"") | N32: =IFERROR(VLOOKUP(H32,'DATI-STAFF'!$A$2:$D$10,3,FALSE),"") | P32: =IFERROR(VLOOKUP(H32,'DATI-STAFF'!$A$2:$D$10,4,FALSE),"")
A33: Allenatore | M33: =IFERROR(VLOOKUP(H33,'DATI-STAFF'!$A$2:$D$10,2,FALSE),"") | N33: =IFERROR(VLOOKUP(H33,'DATI-STAFF'!$A$2:$D$10,3,FALSE),"") | P33: =IFERROR(VLOOKUP(H33,'DATI-STAFF'!$A$2:$D$10,4,FALSE),"")
A34: Guardalinee | M34: =IFERROR(VLOOKUP(H34,'DATI-STAFF'!$A$2:$D$10,2,FALSE),"") | N34: =IFERROR(VLOOKUP(H34,'DATI-STAFF'!$A$2:$D$10,3,FALSE),"") | P34: =IFERROR(VLOOKUP(H34,'DATI-STAFF'!$A$2:$D$10,4,FALSE),"")
A35: Massaggiatore | M35: =IFERROR(VLOOKUP(H35,'DATI-STAFF'!$A$2:$D$10,2,FALSE),"") | N35: =IFERROR(VLOOKUP(H35,'DATI-STAFF'!$A$2:$D$10,3,FALSE),"") | P35: =IFERROR(VLOOKUP(H35,'DATI-STAFF'!$A$2:$D$10,4,FALSE),"")
A36: Le persone qui sopa elencate possono essere ammesse solo se munite delle prescritte tessere F.I.G.C. valide per l'annata in corso o Documento d'idenittà
A37: Il sottoscritto Dirigente Accompagnatore Ufficiale dichiara, ai sensi dell'Art. 61 N.0.1.F., che i calciatori sopraindicati sono regolarm nte tesselii e partecipano alla gara sotto la responsabilità della società.
A39: DIRIGENTE ARBITRO IL DIRIGENTE ACCOMPAGNATORE UFFICIALE

Sheet DATI-ATLETI
A1: N° | B1: COGNOME E NOME ATLETA | C1: DATA NASCITA | D1: GG | E1: MM | F1: AA | G1: MATRICOLA FIGC | H1: Tipo | I1: Numero
A2: 1
A3: 2
A4: 3
A5: 4
A6: 5
A7: 6
A8: 7
A9: 8
A10: 9
A11: 10
A12: 11
A13: 12
... A36: 35

Sheet DATI-STAFF
A1: COGNOME E NOME | B1: N.TESSERA | C1: TIPO | D1: NUMERO
